BEGIN:VCALENDAR
VERSION:2.0
PRODID:DPCALENDAR
CALSCALE:GREGORIAN
BEGIN:VTIMEZONE
TZID:UTC
X-MICROSOFT-CDO-TZID:0
END:VTIMEZONE
X-WR-TIMEZONE:UTC
BEGIN:VEVENT
DTSTART;TZID=UTC:20171115T100000
DTEND;TZID=UTC:20171115T170000
UID:2275997F-C572-498E-A268-8DAB27A18D02
SUMMARY:TFI Malatya Toplantısı
DTSTAMP:20171024T113349Z
DESCRIPTION:Prof. Dr. Kemal ÜNSAL\N“Implant Üstü Protetik Çözümler ”\NSimanteden Vidalıya\N12:00 - Öğle Yemeği   \N13:30 - Bölüm I\N14:30 - Kahve Arası\N15:45 - Bölüm II\N16:00 - Kapanış
X-ALT-DESC;FMTTYPE=text/html:<p><strong>Prof. Dr. Kemal ÜNSAL</strong></p><p><strong>“Implant Üstü Protetik Çözümler ”</strong></p><p><strong>Simanteden Vidalıya</strong></p><p>12:00 - Öğle Yemeği   </p><p>13:30 - Bölüm I</p><p>14:30 - Kahve Arası</p><p>15:45 - Bölüm II</p><p>16:00 - Kapanış</p>
LAST-MODIFIED:20171024T121428Z
X-ACCESS:1
X-HITS:17
X-URL:
X-COLOR:FF1975
END:VEVENT
BEGIN:VEVENT
DTSTART;TZID=UTC:20171201T103000
DTEND;TZID=UTC:20171203T143000
UID:29D44B76-B79F-4DCA-B9DC-D60D73990550
SUMMARY:TFI Kıbrıs Toplantısı
DTSTAMP:20171024T120848Z
DESCRIPTION:KONUŞMACILAR\N\NProf. Dr. M. Kemal ÜNSAL\NT6'da Protetik Çözümler\N\NDoç. Dr. Ezher H. DAYISOYLU\NOral Cerrahi İşlemlerde Sinir Yaralanmaları ve Tedavi Seçenekleri\NÖğle Yemeği\NDoç. Dr. Oğuz OZAN\N4 İmplant, Eğimli ve Hemen Fonksiyon Ne Kadar Mantıklı? FixOn4 Tedavi Protokolünün Dayandığı Temeller\NSoru & Cevap ve Kapanış
X-ALT-DESC;FMTTYPE=text/html:<p><strong>KONUŞMACILAR</strong></p><p></p><p><strong>Prof. Dr. M. Kemal ÜNSAL</strong></p><p>T6'da Protetik Çözümler</p><p></p><p><strong>Doç. Dr. Ezher H. DAYISOYLU</strong></p><p>Oral Cerrahi İşlemlerde Sinir Yaralanmaları ve Tedavi Seçenekleri<br /><br /></p><p><strong>Öğle Yemeği<br /><br /></strong></p><p><strong>Doç. Dr. Oğuz OZAN</strong></p><p>4 İmplant, Eğimli ve Hemen Fonksiyon Ne Kadar Mantıklı? FixOn4 Tedavi Protokolünün Dayandığı Temeller</p><p>Soru &amp; Cevap ve Kapanış</p>
LAST-MODIFIED:20171024T121715Z
X-ACCESS:1
X-HITS:78
X-URL:
X-COLOR:FF1975
END:VEVENT
BEGIN:VEVENT
DTSTART;TZID=UTC:20180120T100000
DTEND;TZID=UTC:20180120T170000
UID:F160E0C9-849D-4CF8-A1B7-2AEA3FF54F10
SUMMARY:TFI İstanbul Toplantısı
DTSTAMP:20171024T122052Z
DESCRIPTION:
X-ALT-DESC;FMTTYPE=text/html:
LAST-MODIFIED:20171024T122530Z
X-ACCESS:1
X-HITS:49
X-URL:
X-COLOR:3366CC
END:VEVENT
BEGIN:VEVENT
DTSTART;TZID=UTC:20180126T100000
DTEND;TZID=UTC:20180128T170000
UID:2E58BE97-3FCA-4811-9A71-6BA5525ABDF2
SUMMARY:TFI Erzurum Kış Toplantısı
DTSTAMP:20171024T122617Z
DESCRIPTION:
X-ALT-DESC;FMTTYPE=text/html:
X-ACCESS:1
X-HITS:39
X-URL:
X-COLOR:3366CC
END:VEVENT
BEGIN:VEVENT
DTSTART;TZID=UTC:20180428T100000
DTEND;TZID=UTC:20180428T170000
UID:5CF6381E-0612-4009-88D6-A1CB12B55015
SUMMARY:TFI Antep Toplantısı
DTSTAMP:20171024T123025Z
DESCRIPTION:
X-ALT-DESC;FMTTYPE=text/html:
X-ACCESS:1
X-HITS:21
X-URL:
X-COLOR:3366CC
END:VEVENT
BEGIN:VEVENT
DTSTART;TZID=UTC:20181117T100000
DTEND;TZID=UTC:20181117T170000
UID:ECB01194-0E66-4252-B2F4-9FAE4ADC22BF
SUMMARY:TFI Antalya Toplantısı
DTSTAMP:20171024T123111Z
DESCRIPTION:
X-ALT-DESC;FMTTYPE=text/html:
X-ACCESS:1
X-HITS:0
X-URL:
X-COLOR:3366CC
END:VEVENT
END:VCALENDAR